BEGIN:VCALENDAR
VERSION:2.0
PRODID:-//Mamamediterraneum - ECPv6.15.18//NONSGML v1.0//EN
CALSCALE:GREGORIAN
METHOD:PUBLISH
X-ORIGINAL-URL:https://mamamediterraneum.it
X-WR-CALDESC:Eventi per Mamamediterraneum
REFRESH-INTERVAL;VALUE=DURATION:PT1H
X-Robots-Tag:noindex
X-PUBLISHED-TTL:PT1H
BEGIN:VTIMEZONE
TZID:Europe/Paris
BEGIN:DAYLIGHT
TZOFFSETFROM:+0100
TZOFFSETTO:+0200
TZNAME:CEST
DTSTART:20170326T010000
END:DAYLIGHT
BEGIN:STANDARD
TZOFFSETFROM:+0200
TZOFFSETTO:+0100
TZNAME:CET
DTSTART:20171029T010000
END:STANDARD
BEGIN:DAYLIGHT
TZOFFSETFROM:+0100
TZOFFSETTO:+0200
TZNAME:CEST
DTSTART:20180325T010000
END:DAYLIGHT
BEGIN:STANDARD
TZOFFSETFROM:+0200
TZOFFSETTO:+0100
TZNAME:CET
DTSTART:20181028T010000
END:STANDARD
BEGIN:DAYLIGHT
TZOFFSETFROM:+0100
TZOFFSETTO:+0200
TZNAME:CEST
DTSTART:20190331T010000
END:DAYLIGHT
BEGIN:STANDARD
TZOFFSETFROM:+0200
TZOFFSETTO:+0100
TZNAME:CET
DTSTART:20191027T010000
END:STANDARD
BEGIN:DAYLIGHT
TZOFFSETFROM:+0100
TZOFFSETTO:+0200
TZNAME:CEST
DTSTART:20200329T010000
END:DAYLIGHT
BEGIN:STANDARD
TZOFFSETFROM:+0200
TZOFFSETTO:+0100
TZNAME:CET
DTSTART:20201025T010000
END:STANDARD
END:VTIMEZONE
BEGIN:VTIMEZONE
TZID:UTC
BEGIN:STANDARD
TZOFFSETFROM:+0000
TZOFFSETTO:+0000
TZNAME:UTC
DTSTART:20170101T000000
END:STANDARD
END:VTIMEZONE
BEGIN:VEVENT
DTSTART;TZID=Europe/Paris:20190416T193000
DTEND;TZID=Europe/Paris:20190416T230000
DTSTAMP:20260421T001334
CREATED:20190312T111820Z
LAST-MODIFIED:20190327T105448Z
UID:10002281-1555443000-1555455600@mamamediterraneum.it
SUMMARY:La terra dei vini\, indipendenti per passione: rosa(ti) shocking
DESCRIPTION:Mettiamo le cose in chiaro: questa lezione prevede tanta pratica e poca teoria! Verranno degustati sei vini rosati in abbinamento a tre piatti\nVi garantiamo una serata illuminante e divertente in cui\, il Sommelier Masterclass Gabriele Giugno\, parlerà della terra prima di tutto per capire cosa andiamo a degustare. Niente caccia a profumi improbabili\, promesso! Verrà fornito il materiale didattico tra cui le dispense e una innovativa scheda di degustazione. La serata prevede che i vini in degustazione siano abbinati a tre piatti realizzati dallo chef Aurelio Carraffa: degli spaghetti ai pesci di scoglio con olive e bottarga\, una pasta e fagioli molto particolare e una pappa al pomodoro con stracciatella di burrata e capperi 
URL:https://mamamediterraneum.it/lezioni/la-terra-dei-vini-indipendenti-per-passione-2-2-2-2/
LOCATION:MaMà Mediterraneum\, via di Priscilla 15-17\, Roma\, 00199\, Italia
CATEGORIES:abbinamento,Cucina e vini,Degustazione,Per coppie,per esperti,Per principianti,Vino
ATTACH;FMTTYPE=image/jpeg:https://mamamediterraneum.it/wp-content/uploads/2019/03/vini-rosati.jpg
END:VEVENT
BEGIN:VEVENT
DTSTART;TZID=Europe/Paris:20190312T193000
DTEND;TZID=Europe/Paris:20190312T230000
DTSTAMP:20260421T001334
CREATED:20190212T170052Z
LAST-MODIFIED:20190214T154740Z
UID:10002074-1552419000-1552431600@mamamediterraneum.it
SUMMARY:La terra dei vini\, indipendenti per passione: bianchi d'(a)mare
DESCRIPTION:Mettiamo le cose in chiaro: questa lezione prevede tanta pratica e poca teoria! Verranno degustati sei vini bianchi in abbinamento a tre piati di mare\nVi garantiamo una serata illuminante e divertente in cui\, il Sommelier Masterclass Gabriele Giugno\, parlerà della terra prima di tutto per capire cosa andiamo a degustare. Niente caccia a profumi improbabili\, promesso! Verrà fornito il materiale didattico tra cui le dispense e una innovativa scheda di degustazione. La serata prevede che i vini in degustazione siano abbinati a tre piatti realizzati dallo chef Aurelio Carraffa: risotto alla crema di peperone con ragù di mare\, zuppetta di pesce con cous cous e baccalà “pil-pil” agli agrumi
URL:https://mamamediterraneum.it/lezioni/la-terra-dei-vini-indipendenti-per-passione-2-2-2/
LOCATION:MaMà Mediterraneum\, via di Priscilla 15-17\, Roma\, 00199\, Italia
CATEGORIES:Cucina e vini,Degustazione,Per coppie,per esperti,Per principianti,Vino
ATTACH;FMTTYPE=image/jpeg:https://mamamediterraneum.it/wp-content/uploads/2019/02/bianco-damare.jpg
END:VEVENT
BEGIN:VEVENT
DTSTART;TZID=Europe/Paris:20190201T193000
DTEND;TZID=Europe/Paris:20190201T230000
DTSTAMP:20260421T001334
CREATED:20190112T181221Z
LAST-MODIFIED:20190114T084723Z
UID:10002228-1549049400-1549062000@mamamediterraneum.it
SUMMARY:La terra dei vini\, indipendenti per passione: rosso inverno
DESCRIPTION:Mettiamo le cose in chiaro: questa lezione prevede tanta pratica e poca teoria! Verranno degustati sei vini rossi in abbinamento a tre primi piatti\nVi garantiamo una serata illuminante e divertente in cui\, il Sommelier Masterclass Gabriele Giugno\, parlerà della terra prima di tutto per capire cosa andiamo a degustare. Niente caccia a profumi improbabili\, promesso! Verrà fornito il materiale didattico tra cui le dispense e una innovativa scheda di degustazione. La serata prevede che i vini in degustazione siano abbinati a tre primi piatti realizzati dallo chef Aurelio Carraffa: timballo di anelletti alla palermitana\, risotto al Castelmagno e pasta alla “paolina”
URL:https://mamamediterraneum.it/lezioni/la-terra-dei-vini-indipendenti-per-passione-2-2/
LOCATION:MaMà Mediterraneum\, via di Priscilla 15-17\, Roma\, 00199\, Italia
CATEGORIES:Cucina e vini,Degustazione,Per coppie,per esperti,Per principianti,Vino
ATTACH;FMTTYPE=image/jpeg:https://mamamediterraneum.it/wp-content/uploads/2019/01/terra-dei-vini-e1548349795217.jpg
END:VEVENT
BEGIN:VEVENT
DTSTART;TZID=Europe/Paris:20181106T193000
DTEND;TZID=Europe/Paris:20181106T223000
DTSTAMP:20260421T001334
CREATED:20181014T091139Z
LAST-MODIFIED:20181016T112633Z
UID:10002161-1541532600-1541543400@mamamediterraneum.it
SUMMARY:La terra dei vini\, indipendenti per passione - secondo incontro
DESCRIPTION:Mettiamo le cose in chiaro: questa lezione prevede tanta pratica e poca teoria!\nVi garantiamo una serata illuminante e divertente in cui\, il Sommelier Masterclass Gabriele Giugno\, parlerà della terra prima di tutto per capire cosa andiamo a degustare. Niente caccia a profumi improbabili\, promesso! Verrà fornito il materiale didattico tra cui le dispense e una innovativa scheda di degustazione.
URL:https://mamamediterraneum.it/lezioni/la-terra-dei-vini-indipendenti-per-passione-2/
LOCATION:MaMà Mediterraneum\, via di Priscilla 15-17\, Roma\, 00199\, Italia
CATEGORIES:Cucina e vini,Degustazione,Per coppie,per esperti,Per principianti,Vino
ATTACH;FMTTYPE=image/jpeg:https://mamamediterraneum.it/wp-content/uploads/2018/07/vino.jpg
END:VEVENT
BEGIN:VEVENT
DTSTART;TZID=UTC:20180913T193000
DTEND;TZID=UTC:20180913T213000
DTSTAMP:20260421T001334
CREATED:20180725T100004Z
LAST-MODIFIED:20180725T100134Z
UID:10002016-1536867000-1536874200@mamamediterraneum.it
SUMMARY:La terra dei vini (indipendenti per passione)
DESCRIPTION:Mettiamo le cose in chiaro: questa lezione prevede tanta pratica e poca teoria!\nIl nostro Sommelier Master Class Gabriele Giugno\, ci guiderà in un incontro appassionato su 6 vini italiani\, prodotti da cantine indipendenti\, in abbinamento con formaggi e salumi. Vi garantiamo una serata illuminante e divertente in cui si parlerà della terra prima di tutto per capire cosa andiamo a degustare. Niente caccia a profumi improbabili\, promesso! Verrà fornito il materiale didattico tra cui le dispense e una innovativa scheda di degustazione.
URL:https://mamamediterraneum.it/lezioni/la-terra-dei-vini-indipendenti-per-passione/
LOCATION:MaMà Mediterraneum\, via di Priscilla 15-17\, Roma\, 00199\, Italia
CATEGORIES:Cucina e vini,Degustazione,Per coppie,per esperti,Per principianti,Vino
ATTACH;FMTTYPE=image/jpeg:https://mamamediterraneum.it/wp-content/uploads/2018/07/vino.jpg
END:VEVENT
END:VCALENDAR