BEGIN:VCALENDAR
VERSION:2.0
PRODID:-//Mamamediterraneum - ECPv6.15.18//NONSGML v1.0//EN
CALSCALE:GREGORIAN
METHOD:PUBLISH
X-WR-CALNAME:Mamamediterraneum
X-ORIGINAL-URL:https://mamamediterraneum.it
X-WR-CALDESC:Eventi per Mamamediterraneum
REFRESH-INTERVAL;VALUE=DURATION:PT1H
X-Robots-Tag:noindex
X-PUBLISHED-TTL:PT1H
BEGIN:VTIMEZONE
TZID:UTC
BEGIN:STANDARD
TZOFFSETFROM:+0000
TZOFFSETTO:+0000
TZNAME:UTC
DTSTART:20170101T000000
END:STANDARD
END:VTIMEZONE
BEGIN:VEVENT
DTSTART;TZID=UTC:20260305T190000
DTEND;TZID=UTC:20260305T220000
DTSTAMP:20260421T050230
CREATED:20260214T072635Z
LAST-MODIFIED:20260214T072635Z
UID:10003312-1772737200-1772748000@mamamediterraneum.it
SUMMARY:Basta solo un wok...
DESCRIPTION:Il wok è lo strumento di cottura tipico della cucina orientale\, cinese e thailandese in particolare\, che si presta ad essere utilizzato anche per piatti non necessariamente etnici\nNon è altro che una padella in ferro\, concava o troncoconica\, adatta ad una cottura veloce e a fuoco vivace. Utilizzarla in cottura è divertente e facile ed è adatta a preparazioni a basso contenuto di grassi. La lezione\, tenuta dalla docente Kaba Corapi\, si articolerà con la preparazione di 3 ricette\, ed in particolare: un wok di melanzane saltate in salsa Yiu Xiang\, dei bocconcini di pollo in salsa speziata allo yogurt con riso\, per finire con un tofu glassato e anacardi in agrodolce 
URL:https://mamamediterraneum.it/lezioni/basta-solo-un-wok-6/
LOCATION:MaMà Mediterraneum\, via di Priscilla 15-17\, Roma\, 00199\, Italia
CATEGORIES:Carne,Cucina veloce,Etnica,Per coppie,per esperti,Per principianti
ATTACH;FMTTYPE=image/jpeg:https://mamamediterraneum.it/wp-content/uploads/2025/04/wok.jpg
END:VEVENT
BEGIN:VEVENT
DTSTART;TZID=UTC:20250519T190000
DTEND;TZID=UTC:20250519T220000
DTSTAMP:20260421T050230
CREATED:20250414T151716Z
LAST-MODIFIED:20250414T151716Z
UID:10003136-1747681200-1747692000@mamamediterraneum.it
SUMMARY:Basta solo un wok...
DESCRIPTION:Il wok è lo strumento di cottura tipico della cucina orientale\, cinese e thailandese in particolare\, che si presta ad essere utilizzato anche per piatti non necessariamente etnici\nNon è altro che una padella in ferro\, concava o troncoconica\, adatta ad una cottura veloce e a fuoco vivace. Utilizzarla in cottura è divertente e facile ed è adatta a preparazioni a basso contenuto di grassi. La lezione\, tenuta dalla docente Kaba Corapi\, si articolerà con la preparazione di 3 ricette\, ed in particolare: un wok di melanzane saltate in salsa Yiu Xiang\, dei bocconcini di pollo in salsa speziata allo yogurt con riso\, per finire con un tofu glassato e anacardi in agrodolce 
URL:https://mamamediterraneum.it/lezioni/basta-solo-un-wok-5/
LOCATION:MaMà Mediterraneum\, via di Priscilla 15-17\, Roma\, 00199\, Italia
CATEGORIES:Carne,Cucina veloce,Etnica,Per coppie,per esperti,Per principianti
ATTACH;FMTTYPE=image/jpeg:https://mamamediterraneum.it/wp-content/uploads/2025/04/wok.jpg
END:VEVENT
BEGIN:VEVENT
DTSTART;TZID=UTC:20241120T190000
DTEND;TZID=UTC:20241120T220000
DTSTAMP:20260421T050230
CREATED:20241014T075701Z
LAST-MODIFIED:20241014T075842Z
UID:10003015-1732129200-1732140000@mamamediterraneum.it
SUMMARY:Basta solo un wok... #4
DESCRIPTION:Il wok è lo strumento di cottura tipico della cucina orientale\, cinese e thailandese in particolare\, che si presta ad essere utilizzato anche per piatti non necessariamente etnici\nNon è altro che una padella in ferro\, concava o troncoconica\, adatta ad una cottura veloce e a fuoco vivace. Utilizzarla in cottura è divertente e facile ed è adatta a preparazioni a basso contenuto di grassi. Questa nuova lezione\, tenuta dalla docente Kaba Corapi\, si articolerà con la preparazione di 3 ricette\, ed in particolare: degli anacardi in agrodolce\, degli gnocchi di riso con manzo e verdurine per finire con delle seppie piccanti alle 4 erbe \n 
URL:https://mamamediterraneum.it/lezioni/basta-solo-un-wok-4/
LOCATION:MaMà Mediterraneum\, via di Priscilla 15-17\, Roma\, 00199\, Italia
CATEGORIES:Antipasti,Carne,Cucina veloce,Etnica,Per coppie,per esperti,Per principianti,Pesce
ATTACH;FMTTYPE=image/jpeg:https://mamamediterraneum.it/wp-content/uploads/2024/10/wok.jpg
END:VEVENT
BEGIN:VEVENT
DTSTART;TZID=UTC:20231010T190000
DTEND;TZID=UTC:20231010T220000
DTSTAMP:20260421T050230
CREATED:20230914T083957Z
LAST-MODIFIED:20230914T134214Z
UID:10002769-1696964400-1696975200@mamamediterraneum.it
SUMMARY:Basta solo un wok...
DESCRIPTION:Il wok è lo strumento di cottura tipico della cucina orientale\, cinese e thailandese in particolare\, che si presta ad essere utilizzato anche per piatti non necessariamente etnici\nNon è altro che una padella in ferro\, concava o troncoconica\, adatta ad una cottura veloce e a fuoco vivace. Utilizzarla in cottura è divertente e facile ed è adatta a preparazioni a basso contenuto di grassi. La lezione\, tenuta dalla docente Kaba Corapi\, si articolerà con la preparazione di 3 ricette\, ed in particolare: un wok di seppie\, carciofi e menta;  vermicelli con gamberi\, verze croccanti e anacardi; straccetti di manzo marinati\, spinaci e sesamo \n 
URL:https://mamamediterraneum.it/lezioni/basta-solo-un-wok-3/
LOCATION:MaMà Mediterraneum\, via di Priscilla 15-17\, Roma\, 00199\, Italia
CATEGORIES:Antipasti,Carne,Cucina veloce,Etnica,Per coppie,per esperti,Per principianti,Pesce
ATTACH;FMTTYPE=image/jpeg:https://mamamediterraneum.it/wp-content/uploads/2020/03/wok.jpg
END:VEVENT
BEGIN:VEVENT
DTSTART;TZID=UTC:20201023T190000
DTEND;TZID=UTC:20201023T220000
DTSTAMP:20260421T050230
CREATED:20200914T091802Z
LAST-MODIFIED:20200914T091802Z
UID:10002467-1603479600-1603490400@mamamediterraneum.it
SUMMARY:Basta solo un wok...
DESCRIPTION:Il wok è lo strumento di cottura tipico della cucina orientale\, cinese e thailandese in particolare\, che si presta ad essere utilizzato anche per piatti non necessariamente etnici.\nNon è altro che una padella in ferro\, concava o troncoconica\, adatta ad una cottura veloce e a fuoco vivace. Utilizzarla in cottura è divertente e facile ed è adatta a preparazioni a basso contenuto di grassi. La lezione si articolerà con la preparazione di 4 ricette\, ed in particolare: broccoli siciliani con pinoli e limone\, pollo al latte di cocco con zenzero e lime\, manzo al pepe di Sichuan e riso profumato saltato nel wok. \n 
URL:https://mamamediterraneum.it/lezioni/basta-solo-un-wok-2/
LOCATION:MaMà Mediterraneum\, via di Priscilla 15-17\, Roma\, 00199\, Italia
CATEGORIES:Antipasti,Carne,Cucina veloce,Etnica,Per coppie,per esperti,Per principianti
ATTACH;FMTTYPE=image/jpeg:https://mamamediterraneum.it/wp-content/uploads/2020/03/wok.jpg
END:VEVENT
BEGIN:VEVENT
DTSTART;TZID=UTC:20180214T190000
DTEND;TZID=UTC:20180214T220000
DTSTAMP:20260421T050230
CREATED:20171215T160942Z
LAST-MODIFIED:20171216T153956Z
UID:10002021-1518634800-1518645600@mamamediterraneum.it
SUMMARY:Basta solo un wok...
DESCRIPTION:Il wok è lo strumento di cottura tipico della cucina orientale\, cinese e thailandese in particolare\, che si presta ad essere utilizzato anche per piatti non necessariamente etnici.\nNon è altro che una padella in ferro\, concava o troncoconica\, adatta ad una cottura veloce e a fuoco vivace. Utilizzarla in cottura è divertente e facile ed è adatta a preparazioni a basso contenuto di grassi. La lezione si articolerà con la preparazione di 4 ricette\, ed in particolare: broccoli siciliani con pinoli e limone\, pollo al latte di cocco con zenzero e lime\, manzo al pepe di Sichuan e riso profumato saltato nel wok. \n 
URL:https://mamamediterraneum.it/lezioni/basta-solo-un-wok/
LOCATION:MaMà Mediterraneum\, via di Priscilla 15-17\, Roma\, 00199\, Italia
CATEGORIES:Antipasti,Carne,Cucina veloce,Etnica,Per coppie,per esperti,Per principianti
ATTACH;FMTTYPE=image/jpeg:https://mamamediterraneum.it/wp-content/uploads/2017/12/wok2-1.jpg
END:VEVENT
END:VCALENDAR