BEGIN:VCALENDAR
VERSION:2.0
PRODID:-//Mamamediterraneum - ECPv6.15.18//NONSGML v1.0//EN
CALSCALE:GREGORIAN
METHOD:PUBLISH
X-WR-CALNAME:Mamamediterraneum
X-ORIGINAL-URL:https://mamamediterraneum.it
X-WR-CALDESC:Eventi per Mamamediterraneum
REFRESH-INTERVAL;VALUE=DURATION:PT1H
X-Robots-Tag:noindex
X-PUBLISHED-TTL:PT1H
BEGIN:VTIMEZONE
TZID:Europe/Rome
BEGIN:DAYLIGHT
TZOFFSETFROM:+0100
TZOFFSETTO:+0200
TZNAME:CEST
DTSTART:20200329T010000
END:DAYLIGHT
BEGIN:STANDARD
TZOFFSETFROM:+0200
TZOFFSETTO:+0100
TZNAME:CET
DTSTART:20201025T010000
END:STANDARD
BEGIN:DAYLIGHT
TZOFFSETFROM:+0100
TZOFFSETTO:+0200
TZNAME:CEST
DTSTART:20210328T010000
END:DAYLIGHT
BEGIN:STANDARD
TZOFFSETFROM:+0200
TZOFFSETTO:+0100
TZNAME:CET
DTSTART:20211031T010000
END:STANDARD
BEGIN:DAYLIGHT
TZOFFSETFROM:+0100
TZOFFSETTO:+0200
TZNAME:CEST
DTSTART:20220327T010000
END:DAYLIGHT
BEGIN:STANDARD
TZOFFSETFROM:+0200
TZOFFSETTO:+0100
TZNAME:CET
DTSTART:20221030T010000
END:STANDARD
BEGIN:DAYLIGHT
TZOFFSETFROM:+0100
TZOFFSETTO:+0200
TZNAME:CEST
DTSTART:20230326T010000
END:DAYLIGHT
BEGIN:STANDARD
TZOFFSETFROM:+0200
TZOFFSETTO:+0100
TZNAME:CET
DTSTART:20231029T010000
END:STANDARD
BEGIN:DAYLIGHT
TZOFFSETFROM:+0100
TZOFFSETTO:+0200
TZNAME:CEST
DTSTART:20240331T010000
END:DAYLIGHT
BEGIN:STANDARD
TZOFFSETFROM:+0200
TZOFFSETTO:+0100
TZNAME:CET
DTSTART:20241027T010000
END:STANDARD
BEGIN:DAYLIGHT
TZOFFSETFROM:+0100
TZOFFSETTO:+0200
TZNAME:CEST
DTSTART:20250330T010000
END:DAYLIGHT
BEGIN:STANDARD
TZOFFSETFROM:+0200
TZOFFSETTO:+0100
TZNAME:CET
DTSTART:20251026T010000
END:STANDARD
BEGIN:DAYLIGHT
TZOFFSETFROM:+0100
TZOFFSETTO:+0200
TZNAME:CEST
DTSTART:20260329T010000
END:DAYLIGHT
BEGIN:STANDARD
TZOFFSETFROM:+0200
TZOFFSETTO:+0100
TZNAME:CET
DTSTART:20261025T010000
END:STANDARD
BEGIN:DAYLIGHT
TZOFFSETFROM:+0100
TZOFFSETTO:+0200
TZNAME:CEST
DTSTART:20270328T010000
END:DAYLIGHT
BEGIN:STANDARD
TZOFFSETFROM:+0200
TZOFFSETTO:+0100
TZNAME:CET
DTSTART:20271031T010000
END:STANDARD
END:VTIMEZONE
BEGIN:VTIMEZONE
TZID:UTC
BEGIN:STANDARD
TZOFFSETFROM:+0000
TZOFFSETTO:+0000
TZNAME:UTC
DTSTART:20170101T000000
END:STANDARD
END:VTIMEZONE
BEGIN:VEVENT
DTSTART;TZID=Europe/Rome:20260123T190000
DTEND;TZID=Europe/Rome:20260123T220000
DTSTAMP:20260420T060222
CREATED:20251214T104758Z
LAST-MODIFIED:20251214T104758Z
UID:10003271-1769194800-1769205600@mamamediterraneum.it
SUMMARY:Cucina & vini: le zuppe di pesce
DESCRIPTION:Le zuppe di pesce riescono a concentrare nel piatto un bouquet di profumi e di sapori tanto vasto quanto maggiore è la varietà dei prodotti del mare in esse contenuti\nNate nelle case dei pescatori per utilizzare i pesci invenduti o a bordo dei battelli da pesca per cucinare il pasto in un unica pentola\, le zuppe di mare sono oggi piatti ricercatissimi e di rara bontà. La collaudatissima coppia costituita dallo Chef Aurelio Carraffa e dalla sommelier Clara Montesanto\, renderanno piacevolissima la lezione costituita da tre interessanti ricette e tre relativi abbinamenti di vini. Prepareremo insieme una zuppa di pesce alla trapanese accompagnata dal cous cous\, un brodetto di pesce alla marchigiana e una impepata di cozze alla maniera dello chef.
URL:https://mamamediterraneum.it/lezioni/cucina-vini-le-zuppe-di-pesce/
LOCATION:MaMà Mediterraneum\, via di Priscilla 15-17\, Roma\, 00199\, Italia
CATEGORIES:Cucina e vini,Cucina generale,Per coppie,per esperti,Per principianti,Pesce,Piatto unico,verdure,Zuppe
ATTACH;FMTTYPE=image/jpeg:https://mamamediterraneum.it/wp-content/uploads/2020/10/zuppe-di-pesce.jpg
END:VEVENT
BEGIN:VEVENT
DTSTART;TZID=UTC:20250207T190000
DTEND;TZID=UTC:20250207T220000
DTSTAMP:20260420T060222
CREATED:20250115T073417Z
LAST-MODIFIED:20250115T073417Z
UID:10003066-1738954800-1738965600@mamamediterraneum.it
SUMMARY:Le zuppe di pesce
DESCRIPTION:Le zuppe di pesce riescono a concentrare nel piatto un bouquet di profumi e di sapori tanto vasto quanto maggiore è la varietà dei prodotti del mare in esse contenuti.\nNate nelle case dei pescatori per utilizzare i pesci invenduti o a bordo dei battelli da pesca per cucinare il pasto in un unica pentola\, le zuppe di mare sono oggi piatti ricercatissimi e di rara bontà. \nIn occasione della lezione prepareremo tre ricette\, una zuppa di pesce alla trapanese accompagnata dal cous cous\, un brodetto di pesce alla marchigiana e una impepata di cozze alla maniera dello chef.
URL:https://mamamediterraneum.it/lezioni/le-zuppe-di-pesce-3/
LOCATION:MaMà Mediterraneum\, via di Priscilla 15-17\, Roma\, 00199\, Italia
CATEGORIES:Pesce,Piatto unico
ATTACH;FMTTYPE=image/jpeg:https://mamamediterraneum.it/wp-content/uploads/2023/01/zuppe-di-pesce-1.jpg
END:VEVENT
BEGIN:VEVENT
DTSTART;TZID=UTC:20230224T190000
DTEND;TZID=UTC:20230224T220000
DTSTAMP:20260420T060222
CREATED:20230112T152331Z
LAST-MODIFIED:20230114T142554Z
UID:10002638-1677265200-1677276000@mamamediterraneum.it
SUMMARY:Le zuppe di pesce
DESCRIPTION:Le zuppe di pesce riescono a concentrare nel piatto un bouquet di profumi e di sapori tanto vasto quanto maggiore è la varietà dei prodotti del mare in esse contenuti.\nNate nelle case dei pescatori per utilizzare i pesci invenduti o a bordo dei battelli da pesca per cucinare il pasto in un unica pentola\, le zuppe di mare sono oggi piatti ricercatissimi e di rara bontà. \nIn occasione della lezione prepareremo tre ricette\, una zuppa di pesce alla trapanese accompagnata dal cous cous\, un brodetto di pesce alla marchigiana e una impepata di cozze alla maniera dello chef.
URL:https://mamamediterraneum.it/lezioni/le-zuppe-di-pesce-2/
LOCATION:MaMà Mediterraneum\, via di Priscilla 15-17\, Roma\, 00199\, Italia
CATEGORIES:Pesce,Piatto unico
ATTACH;FMTTYPE=image/jpeg:https://mamamediterraneum.it/wp-content/uploads/2023/01/zuppe-di-pesce-1.jpg
END:VEVENT
BEGIN:VEVENT
DTSTART;TZID=Europe/Rome:20211103T190000
DTEND;TZID=Europe/Rome:20211103T220000
DTSTAMP:20260420T060222
CREATED:20201016T110320Z
LAST-MODIFIED:20211014T170119Z
UID:10002472-1635966000-1635976800@mamamediterraneum.it
SUMMARY:Cucina & vini: le zuppe di pesce
DESCRIPTION:Le zuppe di pesce riescono a concentrare nel piatto un bouquet di profumi e di sapori tanto vasto quanto maggiore è la varietà dei prodotti del mare in esse contenuti\nNate nelle case dei pescatori per utilizzare i pesci invenduti o a bordo dei battelli da pesca per cucinare il pasto in un unica pentola\, le zuppe di mare sono oggi piatti ricercatissimi e di rara bontà. La collaudatissima coppia costituita dallo Chef Aurelio Carraffa e dalla sommelier Clara Montesanto\, renderanno piacevolissima la lezione costituita da tre interessanti ricette e tre relativi abbinamenti di vini. Prepareremo insieme una zuppa di pesce alla trapanese accompagnata dal cous cous\, un brodetto di pesce alla marchigiana e una impepata di cozze alla maniera dello chef.
URL:https://mamamediterraneum.it/lezioni/cucina-vini-gli-asparagi-2/
LOCATION:MaMà Mediterraneum\, via di Priscilla 15-17\, Roma\, 00199\, Italia
CATEGORIES:Cucina e vini,Cucina generale,Per coppie,per esperti,Per principianti,Pesce,Piatto unico,verdure,Zuppe
ATTACH;FMTTYPE=image/jpeg:https://mamamediterraneum.it/wp-content/uploads/2020/10/zuppe-di-pesce.jpg
END:VEVENT
BEGIN:VEVENT
DTSTART;TZID=UTC:20180314T190000
DTEND;TZID=UTC:20180314T220000
DTSTAMP:20260420T060222
CREATED:20180211T083717Z
LAST-MODIFIED:20180222T163348Z
UID:10001957-1521054000-1521064800@mamamediterraneum.it
SUMMARY:Le zuppe di pesce
DESCRIPTION:Le zuppe di pesce riescono a concentrare nel piatto un bouquet di profumi e di sapori tanto vasto quanto maggiore è la varietà dei prodotti del mare in esse contenuti.\nNate nelle case dei pescatori per utilizzare i pesci invenduti o a bordo dei battelli da pesca per cucinare il pasto in un unica pentola\, le zuppe di mare sono oggi piatti ricercatissimi e di rara bontà. \nIn occasione della lezione prepareremo tre ricette\, una zuppa di pesce alla trapanese accompagnata dal cous cous\, un brodetto di pesce alla marchigiana e una impepata di cozze alla maniera dello chef.
URL:https://mamamediterraneum.it/lezioni/le-zuppe-di-pesce/
LOCATION:MaMà Mediterraneum\, via di Priscilla 15-17\, Roma\, 00199\, Italia
CATEGORIES:Pesce,Piatto unico
ATTACH;FMTTYPE=image/jpeg:https://mamamediterraneum.it/wp-content/uploads/2018/02/zuppa-di-pesce-2.jpg
END:VEVENT
END:VCALENDAR