BEGIN:VCALENDAR
VERSION:2.0
PRODID:-//Mamamediterraneum - ECPv6.15.18//NONSGML v1.0//EN
CALSCALE:GREGORIAN
METHOD:PUBLISH
X-ORIGINAL-URL:https://mamamediterraneum.it
X-WR-CALDESC:Eventi per Mamamediterraneum
REFRESH-INTERVAL;VALUE=DURATION:PT1H
X-Robots-Tag:noindex
X-PUBLISHED-TTL:PT1H
BEGIN:VTIMEZONE
TZID:UTC
BEGIN:STANDARD
TZOFFSETFROM:+0000
TZOFFSETTO:+0000
TZNAME:UTC
DTSTART:20220101T000000
END:STANDARD
END:VTIMEZONE
BEGIN:VEVENT
DTSTART;TZID=UTC:20230915T190000
DTEND;TZID=UTC:20230915T220000
DTSTAMP:20260424T005040
CREATED:20230827T135126Z
LAST-MODIFIED:20230827T143854Z
UID:10002746-1694804400-1694815200@mamamediterraneum.it
SUMMARY:Le zuppe di mare di Kaba
DESCRIPTION:Le zuppe di pesce riescono a concentrare nel piatto un bouquet di profumi e di sapori tanto vasto quanto maggiore è la varietà dei prodotti del mare in esse contenuti.\nNate nelle case dei pescatori per utilizzare i pesci invenduti o a bordo dei battelli da pesca per cucinare il pasto in un unica pentola\, le zuppe di mare sono oggi piatti ricercatissimi e di rara bontà. In questa bellissima lezione la Chef Kaba Corapi vi svelerà tutti i segreti per realizzare con facilità tre eccezionali e poco conosciute zuppe di mare. Sarete giudati nella realizzazione di una minestra di crostacei con patate e zafferano\, una zuppa di pesce senza spine e un Lohikeitto\, famosa zuppetta di salmone finlandese
URL:https://mamamediterraneum.it/lezioni/le-zuppe-di-pesce-di-kaba/
LOCATION:MaMà Mediterraneum\, via di Priscilla 15-17\, Roma\, 00199\, Italia
CATEGORIES:Per coppie,per esperti,Per principianti,Pesce,Piatto unico
ATTACH;FMTTYPE=image/jpeg:https://mamamediterraneum.it/wp-content/uploads/2023/01/zuppe-di-pesce-1.jpg
END:VEVENT
END:VCALENDAR