BEGIN:VCALENDAR
VERSION:2.0
PRODID:-//Mamamediterraneum - ECPv6.15.18//NONSGML v1.0//EN
CALSCALE:GREGORIAN
METHOD:PUBLISH
X-WR-CALNAME:Mamamediterraneum
X-ORIGINAL-URL:https://mamamediterraneum.it
X-WR-CALDESC:Eventi per Mamamediterraneum
REFRESH-INTERVAL;VALUE=DURATION:PT1H
X-Robots-Tag:noindex
X-PUBLISHED-TTL:PT1H
BEGIN:VTIMEZONE
TZID:Europe/Rome
BEGIN:DAYLIGHT
TZOFFSETFROM:+0100
TZOFFSETTO:+0200
TZNAME:CEST
DTSTART:20190331T010000
END:DAYLIGHT
BEGIN:STANDARD
TZOFFSETFROM:+0200
TZOFFSETTO:+0100
TZNAME:CET
DTSTART:20191027T010000
END:STANDARD
BEGIN:DAYLIGHT
TZOFFSETFROM:+0100
TZOFFSETTO:+0200
TZNAME:CEST
DTSTART:20200329T010000
END:DAYLIGHT
BEGIN:STANDARD
TZOFFSETFROM:+0200
TZOFFSETTO:+0100
TZNAME:CET
DTSTART:20201025T010000
END:STANDARD
BEGIN:DAYLIGHT
TZOFFSETFROM:+0100
TZOFFSETTO:+0200
TZNAME:CEST
DTSTART:20210328T010000
END:DAYLIGHT
BEGIN:STANDARD
TZOFFSETFROM:+0200
TZOFFSETTO:+0100
TZNAME:CET
DTSTART:20211031T010000
END:STANDARD
END:VTIMEZONE
BEGIN:VTIMEZONE
TZID:UTC
BEGIN:STANDARD
TZOFFSETFROM:+0000
TZOFFSETTO:+0000
TZNAME:UTC
DTSTART:20190101T000000
END:STANDARD
END:VTIMEZONE
BEGIN:VEVENT
DTSTART;TZID=Europe/Rome:20200707T190000
DTEND;TZID=Europe/Rome:20200707T203000
DTSTAMP:20260423T103450
CREATED:20200617T093504Z
LAST-MODIFIED:20200617T102448Z
UID:10002206-1594148400-1594153800@mamamediterraneum.it
SUMMARY:Antipasti estivi - webinar
DESCRIPTION:Perfetti per iniziare una cena o per sostituirla del tutto\, gli antipasti devono essere preparazioni gustose e poco impegnative\, soprattutto nella stagione calda\nEcco che allora lo chef Aurelio Carraffa si impegnerà al meglio in questa lezione interattiva online\, per insegnarvi tre gustose e divertenti ricette che allieteranno i vostri pranzi o le vostre cene estive. La prima è una ricetta proposta molti anni fa e che ha riscontrato un incredibile successo\, gemelli perfetti è il suo nome e si riferisce all’abbinamento tra mozzarella di bufala\, fichi e… altro. Proseguiremo con una caponata di mare da gustare rigorosamente a temperatura ambiente\, per finire con degli sformatini di pasta nei peperoni. \nDa non perdere!
URL:https://mamamediterraneum.it/lezioni/antipasti-estivi-2/
LOCATION:on-line
CATEGORIES:Antipasti,Cucina generale,per esperti,Per principianti,stagionale
ATTACH;FMTTYPE=image/jpeg:https://mamamediterraneum.it/wp-content/uploads/2020/06/antipasti-estivi-1.jpg
END:VEVENT
BEGIN:VEVENT
DTSTART;TZID=Europe/Rome:20200630T190000
DTEND;TZID=Europe/Rome:20200630T203000
DTSTAMP:20260423T103450
CREATED:20200522T102746Z
LAST-MODIFIED:20200529T130015Z
UID:10002204-1593543600-1593549000@mamamediterraneum.it
SUMMARY:Una calda serata in terrazza
DESCRIPTION:Arriverà come sempre il caldo estivo e di conseguenza arriverà anche la nostra voglia di trovare ristoro e freschezza anche in ciò che che gustiamo\, magari in terrazza con i nostri amici\nQuesta lezione online sarà l’ultima del mese e lo chef Aurelio Carraffa sarà felice di tenervi compagnia realizzando insieme a voi due interessantissime ricette adatte per la stagione. La prima sarà una insalata di melanzane con pane croccante e menta\, ma vi assicuro che\, al di là de nome\, è tutto tranne che una insalata! Il secondo piatto è una bomba! Lo scauratello\, un tortino freddo di pesce reso particolare dall’uso sapiente delle erbe aromatiche
URL:https://mamamediterraneum.it/lezioni/una-calda-serata-in-terrazza/
LOCATION:on-line
CATEGORIES:Cucina generale,per esperti,Per principianti,Pesce,verdure
ATTACH;FMTTYPE=image/jpeg:https://mamamediterraneum.it/wp-content/uploads/2020/05/terrazza.jpg
END:VEVENT
BEGIN:VEVENT
DTSTART;TZID=Europe/Rome:20200624T190000
DTEND;TZID=Europe/Rome:20200624T203000
DTSTAMP:20260423T103450
CREATED:20200522T101822Z
LAST-MODIFIED:20200529T125143Z
UID:10002203-1593025200-1593030600@mamamediterraneum.it
SUMMARY:Piatti vegetariani veloci... perfetti per l'estate
DESCRIPTION:In estate si tende a stare poco in cucina e a consumare pasti leggeri… ecco la lezione giusta allora! Piatti leggeri e veloci da preparare\nSaranno solo verdure gli ingredienti che lo chef Aurelio Carraffa utilizzerà per questa bella lezione online. Tre piatti divertenti e gustosi che sicuramente andranno ad aggiungersi al vostro quaderno delle ricette. La lezione prevede la realizzazione di fusilli alla liparota\, di fiori di zucca ripieni all’ischitana (al forno) e di un profumatissimo riso persiano alle erbe aromatiche
URL:https://mamamediterraneum.it/lezioni/piatti-vegetariani-veloci-perfetti-per-lestate/
LOCATION:on-line
CATEGORIES:Cucina generale,per esperti,Per principianti,Vegetariana,verdure
ATTACH;FMTTYPE=image/jpeg:https://mamamediterraneum.it/wp-content/uploads/2020/05/estivi-veloci.jpg
END:VEVENT
BEGIN:VEVENT
DTSTART;TZID=Europe/Rome:20200623T190000
DTEND;TZID=Europe/Rome:20200623T203000
DTSTAMP:20260423T103450
CREATED:20200522T100848Z
LAST-MODIFIED:20200529T124914Z
UID:10002202-1592938800-1592944200@mamamediterraneum.it
SUMMARY:Pesce facile
DESCRIPTION:Al contrario di quanto si possa pensare il pesce e gli altri prodotti del mare non sono ingredienti difficili da cucinare\, anzi. Basta conoscere il modo per “affrontare” questi  meravigliosi tesori del mare per aver vita facile in cucina\nAcquapazza di spigola al cartoccio e calamari ripieni di ricotta\, colatura di alici e limone sono le due ricette che lo chef Aurelio Carraffa vi illustrerà in questa divertente lezione online. Due piatti che lasceranno a bocca aperta i vostri commensali per la bontà e voi stessi per la semplicità di preparazione. Iscriversi per credere… \n 
URL:https://mamamediterraneum.it/lezioni/pesce-facile/
LOCATION:on-line
CATEGORIES:Cucina generale,per esperti,Per principianti,Pesce
ATTACH;FMTTYPE=image/jpeg:https://mamamediterraneum.it/wp-content/uploads/2020/05/pesce-facile-2.jpg
END:VEVENT
BEGIN:VEVENT
DTSTART;TZID=Europe/Rome:20200617T190000
DTEND;TZID=Europe/Rome:20200617T203000
DTSTAMP:20260423T103450
CREATED:20200522T094941Z
LAST-MODIFIED:20200529T124429Z
UID:10002201-1592420400-1592425800@mamamediterraneum.it
SUMMARY:Risotti estivi
DESCRIPTION:Benché le due parole del titolo possano sembrare un ossimoro\, non è affatto così! I risotti in estate sono un piatto perfetto da preparare e da gustare\nÈ vero che bisogna “coccolarli” per 20 minuti ma\, normalmente\, in poco più di mezz’ora si riesce a preparare un risotto delizioso. Sarà compito dello chef Aurelio Carraffa dimostrarvelo con due ricette dal nome eloquente: risotto con scorfano\, scorza di limone e zafferano e risotto all’olio con vongole veraci
URL:https://mamamediterraneum.it/lezioni/risotti-estivi-2/
LOCATION:on-line
CATEGORIES:Cucina generale,per esperti,Per principianti,Pesce,riso
ATTACH;FMTTYPE=image/jpeg:https://mamamediterraneum.it/wp-content/uploads/2020/05/risotti-estivi.jpg
END:VEVENT
BEGIN:VEVENT
DTSTART;TZID=Europe/Rome:20200616T190000
DTEND;TZID=Europe/Rome:20200616T203000
DTSTAMP:20260423T103450
CREATED:20200522T094328Z
LAST-MODIFIED:20200522T113221Z
UID:10002200-1592334000-1592339400@mamamediterraneum.it
SUMMARY:Secondi piatti di pesce senza coltello
DESCRIPTION:La possibilità di poter gustare un piatto di pesce senza l’uso del coltello non è da trascurare in caso di cene in piedi\, che d’estate sono frequenti e divertenti\nLo chef Aurelio Carraffa ha ideato questa lezione online proprio per insegnarvi a cucinare due piatti che rispondono a questo requisito e di sicuro successo. La catalana di coda di rospo e i bocconcini di tonno alla mugnaia sono due ricette che\, solo a leggerne il nome\, fanno venire fame
URL:https://mamamediterraneum.it/lezioni/secondi-piatti-di-pesce-senza-coltello/
LOCATION:on-line
CATEGORIES:per esperti,Per principianti,Pesce,Secondi
ATTACH;FMTTYPE=image/jpeg:https://mamamediterraneum.it/wp-content/uploads/2020/05/senza-coltello.jpg
END:VEVENT
BEGIN:VEVENT
DTSTART;TZID=Europe/Rome:20200615T190000
DTEND;TZID=Europe/Rome:20200615T203000
DTSTAMP:20260423T103450
CREATED:20200522T091350Z
LAST-MODIFIED:20200523T071604Z
UID:10002199-1592247600-1592253000@mamamediterraneum.it
SUMMARY:Un tesoro italiano: la mozzarella
DESCRIPTION:La mozzarella\, che sia di bufala o meno\, è senz’altro uno dei formaggi più amati e consumati nel periodo estivo e si può definire un vero e proprio patrimonio della nostra Penisola\nSebbene venga consumata preferibilmente fresca\, è anche un ottimo ingrediente da utilizzare per le nostre ricette. Con lo chef Aurelio Carraffa imparerete a valorizzarne la qualità preparando un sandwich di mozzarella di bufala con peperoni ammollitati e olio alle erbe e un tortino di parmigiana estiva con pesto e stracciatella
URL:https://mamamediterraneum.it/lezioni/un-tesoro-italiano-la-mozzarella/
LOCATION:on-line
CATEGORIES:Cucina generale,per esperti,Per principianti
ATTACH;FMTTYPE=image/jpeg:https://mamamediterraneum.it/wp-content/uploads/2020/05/mozzarella.jpg
END:VEVENT
BEGIN:VEVENT
DTSTART;TZID=Europe/Rome:20200612T190000
DTEND;TZID=Europe/Rome:20200612T203000
DTSTAMP:20260423T103450
CREATED:20200522T090315Z
LAST-MODIFIED:20200522T113249Z
UID:10002198-1591988400-1591993800@mamamediterraneum.it
SUMMARY:Le confetture di Gianluca Forino
DESCRIPTION:L’estate è la stagione migliore per preparare le confetture grazie alla grande quantità di frutta maturata al sole e disponibile sui banchi del mercato\nIn questa lezione online il nostro pastry Chef Gianluca Forino\, avrà molto da far bollire in pentola per insegnarvi a preparare una perfetta marmellata di albicocche\, una confettura di arance amare\, una di cipolle rosse e una mostarda di fichi
URL:https://mamamediterraneum.it/lezioni/le-confetture-di-gianluca-forino/
LOCATION:on-line
CATEGORIES:Cucina generale
ATTACH;FMTTYPE=image/jpeg:https://mamamediterraneum.it/wp-content/uploads/2020/05/confetture.jpg
END:VEVENT
BEGIN:VEVENT
DTSTART;TZID=Europe/Rome:20200610T190000
DTEND;TZID=Europe/Rome:20200610T203000
DTSTAMP:20260423T103450
CREATED:20200522T083418Z
LAST-MODIFIED:20200523T071925Z
UID:10002197-1591815600-1591821000@mamamediterraneum.it
SUMMARY:Palermo in due piatti
DESCRIPTION:La cucina palermitana è certamente da annoverare tra le meraviglie della città\, al pari della sua architettura normanna\, del suo mare e dei suoi mercati ricchi di vita e di ogni “bendidio”\nAbbiamo avuto grande difficoltà a scegliere solo due piatti per questa lezione online\, perché i piatti che avremmo voluto cucinare insieme a voi erano decine. Il padrone di casa\, lo chef Aurelio Carraffa\, ne ha scelti due tra quelli che fanno parte della “sua” cucina e che sono perfetti da gustare in estate: la caponata di melanzane e le sarde (alici) a beccafico
URL:https://mamamediterraneum.it/lezioni/palermo-in-due-piatti/
LOCATION:on-line
CATEGORIES:Cucina generale,per esperti,Per principianti,Pesce,regionale
ATTACH;FMTTYPE=image/jpeg:https://mamamediterraneum.it/wp-content/uploads/2020/05/palermo.jpg
END:VEVENT
BEGIN:VEVENT
DTSTART;TZID=Europe/Rome:20200609T190000
DTEND;TZID=Europe/Rome:20200609T203000
DTSTAMP:20260423T103450
CREATED:20200522T081810Z
LAST-MODIFIED:20200522T113331Z
UID:10002444-1591729200-1591734600@mamamediterraneum.it
SUMMARY:Tutto in una bowl: cevice e poké
DESCRIPTION:Quella di gustare il pesce crudo non è una tradizione unicamente del Sud Italia o del Giappone… Anche in Sud America e alle Hawaii troviamo straordinari piatti tradizionali che abbinano il pesce crudo o marinato con altri ingredienti divenendo dei veri piatti completi\nNel caso specifico i piatti che scopriremo in occasione di questa bellissima lezione sono il cevice\, piatto tradizionale peruviano in cui il pesce viene marinato nel lime\, e il poké [po-kai] piatto hawaiano di gran moda in questo momento. Questa lezione online sarà condotta dallo chef Aurelio Carraffa che vi illustrerà le modalità di preparazione oltre a tutti i segreti riguardanti la scelta\, la conservazione e l’abbattimento del pesce. \n 
URL:https://mamamediterraneum.it/lezioni/tutto-in-una-bowl-cevice-e-poke/
LOCATION:on-line
CATEGORIES:Etnica,per esperti,Per principianti,Pesce,Piatto unico
ATTACH;FMTTYPE=image/jpeg:https://mamamediterraneum.it/wp-content/uploads/2020/05/bowl.jpg
END:VEVENT
BEGIN:VEVENT
DTSTART;TZID=Europe/Rome:20200605T190000
DTEND;TZID=Europe/Rome:20200605T203000
DTSTAMP:20260423T103450
CREATED:20200522T080208Z
LAST-MODIFIED:20200522T113403Z
UID:10002443-1591383600-1591389000@mamamediterraneum.it
SUMMARY:La colazione perfetta
DESCRIPTION:L’estate è il momento migliore per godersi la prima colazione\, magari seduti tutti insieme in terrazza o in giardino per godere del fresco delle prime ore della giornata. Per questo motivo è bene prepararla nel modo migliore\, con l’attenzione e l’amore che meritano i nostri cari o i nostri amici.\nIl nostro pastry Chef Gianluca Forino avrà il compito\, in questa lezione online\, di insegnarvi le tecniche e i procedimenti per preparare dei muffin perfetti\, un plumcake con “inclusioni” e una buonissima granola da gustare con la frutta e lo yogurt
URL:https://mamamediterraneum.it/lezioni/la-colazione-perfetta/
LOCATION:on-line
CATEGORIES:Dolci,per esperti,Per principianti,torte
ATTACH;FMTTYPE=image/jpeg:https://mamamediterraneum.it/wp-content/uploads/2020/05/colazione.jpg
END:VEVENT
BEGIN:VEVENT
DTSTART;TZID=Europe/Rome:20200604T190000
DTEND;TZID=Europe/Rome:20200604T203000
DTSTAMP:20260423T103450
CREATED:20200521T180315Z
LAST-MODIFIED:20200523T072210Z
UID:10002442-1591297200-1591302600@mamamediterraneum.it
SUMMARY:Un salto in India... con Andrea Misseri
DESCRIPTION:La cucina indiana è tra le più rinomate\, complesse ed apprezzate in assoluto. Con l’uso sapiente delle spezie\, il cui uso varia di regione in regione\, si preparano pietanze deliziose di carne\, di pesce e vegetariane\nIn questo viaggio vi accompagnerà uno Chef che in India ha lavorato molto e che conosce alla perfezione tutti i segreti della sua cucina. Sarà Andrea Misseri il padrone di casa che in questa lezione online vi insegnerà come preparare un fish caldin\, ovvero un curry verde di pesce con riso basmati\, una raita con pomodori e cetrioli e la vera chutney di mango
URL:https://mamamediterraneum.it/lezioni/un-salto-in-india-con-andrea-misseri/
LOCATION:on-line
CATEGORIES:Etnica,per esperti,Per principianti,Pesce
ATTACH;FMTTYPE=image/jpeg:https://mamamediterraneum.it/wp-content/uploads/2020/05/indiana.jpg
END:VEVENT
BEGIN:VEVENT
DTSTART;TZID=UTC:20200603T190000
DTEND;TZID=UTC:20200603T203000
DTSTAMP:20260423T103450
CREATED:20200521T180257Z
LAST-MODIFIED:20200523T085131Z
UID:10002441-1591210800-1591216200@mamamediterraneum.it
SUMMARY:Il pescespada: gigante buono
DESCRIPTION:È tra i predatori più grandi del mare\, e tra quelli del Mediterraneo\, di certo il più pregiato in assoluto. È al vertice della catena alimentare e sebbene vada consumato con parsimonia\, sa donarci sapori e profumi davvero ineguagliabili\nLo chef Aurelio Carraffa utilizzerà le migliori materie prime per insegnarvi\, in questa lezione online\, a preparare dei piatti che di certo diventeranno dei capisaldi della vostra cucina. Insieme realizzerete degli spaghetti con il pescespada e la crema di fiori di zucca\, e un tortino di pescespada \nImperdibile per gli amanti del pesce.
URL:https://mamamediterraneum.it/lezioni/pescespada/
LOCATION:on-line
CATEGORIES:Cucina generale,per esperti,Per principianti,Pesce
ATTACH;FMTTYPE=image/jpeg:https://mamamediterraneum.it/wp-content/uploads/2020/05/pescespada.jpg
END:VEVENT
BEGIN:VEVENT
DTSTART;TZID=UTC:20200527T190000
DTEND;TZID=UTC:20200527T203000
DTSTAMP:20260423T103450
CREATED:20190512T104420Z
LAST-MODIFIED:20200505T065637Z
UID:10002308-1590606000-1590611400@mamamediterraneum.it
SUMMARY:Un pesto al sole - webinar
DESCRIPTION:Come dice il nome\, il pesto è una condimento i cui ingredienti vengono amalgamati tra di loro pestandoli in un mortaio o per mezzo di un robot da cucina\nIl più famoso è certamente il pesto alla genovese\, ma questa volta ci concentreremo su altre preparazioni\, fresche e ideali per condire dei primi piatti della stagione più calda. Lo Chef Aurelio Carraffa vi condurrà per mano nella preparazione delle linguine con pesto di rucola\, stracciata di burrata e pomodori secchi e di rigatoni con pesto di fagiolini.
URL:https://mamamediterraneum.it/lezioni/un-pesto-al-sole/
LOCATION:on-line
CATEGORIES:Cucina generale,on-line,Per coppie,per esperti,Per principianti,Primi
ATTACH;FMTTYPE=image/jpeg:https://mamamediterraneum.it/wp-content/uploads/2019/05/pesto.jpg
END:VEVENT
BEGIN:VEVENT
DTSTART;TZID=UTC:20200526T190000
DTEND;TZID=UTC:20200526T203000
DTSTAMP:20260423T103450
CREATED:20200505T000449Z
LAST-MODIFIED:20200505T000449Z
UID:10002434-1590519600-1590525000@mamamediterraneum.it
SUMMARY:L'oro rosso... lo zafferano - webinar
DESCRIPTION:È la spezia più preziosa di tutte\, e dona alle pietanze un sapore ed un profumo davvero unici\nDopo il grande successo della prima lezione dedicata all’oro rosso\, con grande piacere lo Chef Aurelio Carraffa affronterà nuovamente questo argomento on-line per guidarvi alla scoperta dei magici pistilli rossi che verranno utilizzati per la realizzazione di un risotto al limone con zenzero e zafferano e una tartare di manzo con ricotta al limone e acqua allo zafferano 
URL:https://mamamediterraneum.it/lezioni/loro-rosso-lo-zafferano-2-2/
LOCATION:on-line
CATEGORIES:on-line,Pasta,Pasta fresca,Pasta ripiena,Per coppie,per esperti,Per principianti,Pesce,riso,Secondi,spezie
ATTACH;FMTTYPE=image/png:https://mamamediterraneum.it/wp-content/uploads/2020/02/zafferano.png
END:VEVENT
BEGIN:VEVENT
DTSTART;TZID=UTC:20200520T190000
DTEND;TZID=UTC:20200520T203000
DTSTAMP:20260423T103450
CREATED:20200505T070211Z
LAST-MODIFIED:20200523T080343Z
UID:10002429-1590001200-1590006600@mamamediterraneum.it
SUMMARY:Il cous cous perfetto - webinar
DESCRIPTION:Il cous cous è una preparazione nord africana\, ma non soltanto: alcune ricette della provincia di Trapani ne sono un esempio e la fregola sarda un altro.\nIn occasione di questa lezione\, i piccoli granuli di semola di grano duro verranno cotti al vapore\, procedimento molto più semplice di quanto si possa pensare. I condimenti\, tradizionali e non\, vi affascineranno e saranno perfetti per esaltare la cottura del cous cous. Prepareremo insieme un cous cous al pesto di agrumi con gamberi allo zenzero\, un cous cous algerino alla menta
URL:https://mamamediterraneum.it/lezioni/cous-cous-la-cottura-e-le-ricette-2/
LOCATION:on-line
CATEGORIES:Antipasti,Etnica,on-line,Per coppie,per esperti,Per principianti,Piatto unico,Primi
ATTACH;FMTTYPE=image/jpeg:https://mamamediterraneum.it/wp-content/uploads/2017/12/cous-cous.jpg
END:VEVENT
BEGIN:VEVENT
DTSTART;TZID=Europe/Rome:20200519T190000
DTEND;TZID=Europe/Rome:20200519T203000
DTSTAMP:20260423T103450
CREATED:20200505T065050Z
LAST-MODIFIED:20200505T085808Z
UID:10002430-1589914800-1589920200@mamamediterraneum.it
SUMMARY:Te pijasse un polpo! - webinar
DESCRIPTION:Il polpo è uno dei prodotti del mare più amati\, facile da cucinare\, versatile e veramente gustoso.\nPer gli amanti di questo straordinario mollusco proponiamo due ricette che\, a nostro parere soddisferanno le aspettative di coloro che vorranno partecipare a questo seminario on-line. Lo Chef Aurelio Carraffa vi insegnerà a realizzare delle linguine con ragù di polpo e crema di cicoria e un polpo con patata affumicata e cipolla caramellata
URL:https://mamamediterraneum.it/lezioni/polpo-di-scena-2/
LOCATION:on-line
CATEGORIES:Cucina generale,on-line,Pasta ripiena,Per coppie,per esperti,Per principianti,Pesce,Primi
ATTACH;FMTTYPE=image/jpeg:https://mamamediterraneum.it/wp-content/uploads/2020/05/polpo.jpg
END:VEVENT
BEGIN:VEVENT
DTSTART;TZID=Europe/Rome:20200518T190000
DTEND;TZID=Europe/Rome:20200518T210000
DTSTAMP:20260423T103450
CREATED:20200505T071359Z
LAST-MODIFIED:20200505T071359Z
UID:10002439-1589828400-1589835600@mamamediterraneum.it
SUMMARY:Il brunch di Gianluca Forino - webinar
DESCRIPTION:La parola brunch deriva dalla fusione delle parole inglesi breakfast e lunch e si traduce praticamente in una lunga colazione che si protrae fino all’ora del pranzo\nIl grande Pastry Chef Gianluca Forino si cimenterà in questa lezione on-line svelando tutti i segreti per realizzare più versioni di alcuni piatti tipici del brunch\, come i pancakes e i bagel\, a partire dagli impasti.
URL:https://mamamediterraneum.it/lezioni/curry-dal-mondo-2/
LOCATION:on-line
CATEGORIES:Cucina generale,Dolci,on-line,Panini,per esperti,Per principianti,Spuntini
ATTACH;FMTTYPE=image/jpeg:https://mamamediterraneum.it/wp-content/uploads/2020/05/pancakes.jpg
END:VEVENT
BEGIN:VEVENT
DTSTART;TZID=UTC:20200513T190000
DTEND;TZID=UTC:20200513T203000
DTSTAMP:20260423T103450
CREATED:20200505T002134Z
LAST-MODIFIED:20200505T090618Z
UID:10002432-1589396400-1589401800@mamamediterraneum.it
SUMMARY:Siamo fritti... - webinar
DESCRIPTION:Si sa\, fritta è buona anche una suola di scarpa…\nMa in questa bella lezione lo chef Aurelio Carraffa vi insegnerà a preparare ben altro e con eccellenti risultati. Oltre che delle ricette si parlerà di grassi di frittura e temperature di fumo\, ovvero quelle che non vanno mai oltrepassate per ottenere un fritto sano e digeribile. Lo chef ci insegnerà a realizzare dei paccheri fritti ripieni di mozzarella di bufala e alici e dei supplì di spaghetti alla carbonara. \n 
URL:https://mamamediterraneum.it/lezioni/siamo-fritti-2/
LOCATION:on-line
CATEGORIES:Antipasti,Cucina generale,Fritti,on-line,Per coppie,per esperti,Per principianti
ATTACH;FMTTYPE=image/jpeg:https://mamamediterraneum.it/wp-content/uploads/2020/05/carbonara.jpg
END:VEVENT
BEGIN:VEVENT
DTSTART;TZID=Europe/Rome:20200512T190000
DTEND;TZID=Europe/Rome:20200512T203000
DTSTAMP:20260423T103450
CREATED:20200504T233152Z
LAST-MODIFIED:20200504T233252Z
UID:10002196-1589310000-1589315400@mamamediterraneum.it
SUMMARY:Com'é profondo il mare - webinar
DESCRIPTION:Visto che il covid19 e il conseguente distanziamento sociale non ci permettono ancora di poter riprendere regolarmente le nostre lezioni in laboratorio\, abbiamo studiato la possibilità di organizzare dei webinar (web-seminar) strutturati esattamente come una lezione di cucina. Questo grazie ad una potente piattaforma alla quale ci appoggiamo e a mezzi tecnologici di ultima generazione che vi faranno provare la sensazione di essere “in classe”\, potendo interagire con domande in tempo reale.\nNiente confusione\, niente distrazioni\, i partecipanti potranno vedere ed ascoltare unicamente il docente.\nIn questa prima lezione on-line lo Chef Aurelio Carraffa si cimenterà con la sua materia prima preferita\, il pesce\, realizzando passo passo le ricette. Tra le varie tecniche di cucina verrà illustrata quella dello sfilettamento. La lezione si articolerà con la preparazione di 2 ricette\, ed in particolare: maltagliati in guazzetto di triglie e involtini di pesce spada alla maniera dello Chef
URL:https://mamamediterraneum.it/lezioni/come-profondo-il-mare/
LOCATION:on-line
CATEGORIES:Cucina generale,on-line,Pasta,per esperti,Per principianti,Pesce,Primi,Secondi
ATTACH;FMTTYPE=image/jpeg:https://mamamediterraneum.it/wp-content/uploads/2020/05/involtini.jpg
END:VEVENT
END:VCALENDAR