BEGIN:VCALENDAR
VERSION:2.0
PRODID:-//Mamamediterraneum - ECPv6.15.18//NONSGML v1.0//EN
CALSCALE:GREGORIAN
METHOD:PUBLISH
X-WR-CALNAME:Mamamediterraneum
X-ORIGINAL-URL:https://mamamediterraneum.it
X-WR-CALDESC:Eventi per Mamamediterraneum
REFRESH-INTERVAL;VALUE=DURATION:PT1H
X-Robots-Tag:noindex
X-PUBLISHED-TTL:PT1H
BEGIN:VTIMEZONE
TZID:Europe/Rome
BEGIN:DAYLIGHT
TZOFFSETFROM:+0100
TZOFFSETTO:+0200
TZNAME:CEST
DTSTART:20190331T010000
END:DAYLIGHT
BEGIN:STANDARD
TZOFFSETFROM:+0200
TZOFFSETTO:+0100
TZNAME:CET
DTSTART:20191027T010000
END:STANDARD
BEGIN:DAYLIGHT
TZOFFSETFROM:+0100
TZOFFSETTO:+0200
TZNAME:CEST
DTSTART:20200329T010000
END:DAYLIGHT
BEGIN:STANDARD
TZOFFSETFROM:+0200
TZOFFSETTO:+0100
TZNAME:CET
DTSTART:20201025T010000
END:STANDARD
BEGIN:DAYLIGHT
TZOFFSETFROM:+0100
TZOFFSETTO:+0200
TZNAME:CEST
DTSTART:20210328T010000
END:DAYLIGHT
BEGIN:STANDARD
TZOFFSETFROM:+0200
TZOFFSETTO:+0100
TZNAME:CET
DTSTART:20211031T010000
END:STANDARD
END:VTIMEZONE
BEGIN:VTIMEZONE
TZID:UTC
BEGIN:STANDARD
TZOFFSETFROM:+0000
TZOFFSETTO:+0000
TZNAME:UTC
DTSTART:20170101T000000
END:STANDARD
END:VTIMEZONE
BEGIN:VEVENT
DTSTART;TZID=Europe/Rome:20200227T190000
DTEND;TZID=Europe/Rome:20200227T220000
DTSTAMP:20260425T145336
CREATED:20200115T082020Z
LAST-MODIFIED:20200116T120016Z
UID:10002411-1582830000-1582840800@mamamediterraneum.it
SUMMARY:Un fiore da gustare: il carciofo
DESCRIPTION:Potrebbe non sembrare ma i carciofi sono fiori eduli invernali che deliziano il nostro palato e si prestano a innumerevoli ricette\nEcco allora che le docenti Antonella Comite e Paola Lanini\, la coppia di Cuoche che Passione\, utilizzerà questi gustosissimi fiori per preparare insieme a voi un timballo di riso\, carciofi e ricotta\, dei carciofi indorati e fritti alla napoletana\, e una crostata di ricotta e carciofi 
URL:https://mamamediterraneum.it/lezioni/un-fiore-da-gustare-il-carciofo/
LOCATION:MaMà Mediterraneum\, via di Priscilla 15-17\, Roma\, 00199\, Italia
CATEGORIES:Cucina generale,Per coppie,per esperti,Per principianti,stagionale
ATTACH;FMTTYPE=image/jpeg:https://mamamediterraneum.it/wp-content/uploads/2020/01/carciofi.jpg
END:VEVENT
BEGIN:VEVENT
DTSTART;TZID=UTC:20190919T190000
DTEND;TZID=UTC:20190919T220000
DTSTAMP:20260425T145336
CREATED:20190712T135756Z
LAST-MODIFIED:20190715T125702Z
UID:10002117-1568919600-1568930400@mamamediterraneum.it
SUMMARY:Chi lo ha detto che l'estate è finita?
DESCRIPTION:La bella stagione non è ancora finita e in cucina possiamo permetterci di utilizzare ancora i prodotti maturati al caldo sole estivo\nSaranno Antonella Comite e Paola Lanini\, di Cuoche che passione\, le due docenti che vi guideranno in occasione di questa bellissima lezione\, due veterane della nostra scuola di cucina. Le due cuoche partenopee vi faranno realizzare delle piccole quiches con ricotta di bufala e datterini gialli e rossi confit\, degli sformatini di melanzane mandorle e ricotta e delle pesche gialle alla crema di moscato
URL:https://mamamediterraneum.it/lezioni/chi-lo-ha-detto-che-lestate-e-finita/
LOCATION:MaMà Mediterraneum\, via di Priscilla 15-17\, Roma\, 00199\, Italia
CATEGORIES:Antipasti,Cucina generale,Per coppie,per esperti,Per principianti,Vegetariana
ATTACH;FMTTYPE=image/jpeg:https://mamamediterraneum.it/wp-content/uploads/2019/07/estate-finita.jpg
END:VEVENT
BEGIN:VEVENT
DTSTART;TZID=UTC:20190625T190000
DTEND;TZID=UTC:20190625T220000
DTSTAMP:20260425T145336
CREATED:20190514T042514Z
LAST-MODIFIED:20190515T140421Z
UID:10002324-1561489200-1561500000@mamamediterraneum.it
SUMMARY:Stasera ceniamo in terrazza?
DESCRIPTION:Cosa c’è di meglio di una cena estiva in terrazza rinfrescati dal dolce ponentino romano? Ecco delle nuove ricette adatte all’occasione\nLe nostre due docenti Antonella Comite e Paola Lanini\, saranno le padrone di casa e vi guideranno in maniera professionale e divertente nella realizzazione di un menu perfetto per una fresca serata al lume di candela. Le due docenti partenopee vi metteranno in condizione di preparare un cous cous al pesto di agrumi e gamberi di paranza\, degli involtini di alici con uvetta\, pinoli e agrumi e una mousse alle fragole con glassa di fragole di bosco.
URL:https://mamamediterraneum.it/lezioni/stesera-ceniamo-in-terrazza/
LOCATION:MaMà Mediterraneum\, via di Priscilla 15-17\, Roma\, 00199\, Italia
CATEGORIES:Cucina generale,menu,Per coppie,per esperti,Per principianti,Pesce
ATTACH;FMTTYPE=image/jpeg:https://mamamediterraneum.it/wp-content/uploads/2019/05/terrazza.jpg
END:VEVENT
BEGIN:VEVENT
DTSTART;TZID=UTC:20190410T190000
DTEND;TZID=UTC:20190410T220000
DTSTAMP:20260425T145336
CREATED:20190312T110649Z
LAST-MODIFIED:20190314T151701Z
UID:10002259-1554922800-1554933600@mamamediterraneum.it
SUMMARY:Menu di Pasqua reinventato
DESCRIPTION:Le festività pasquali sono caratterizzate da un menu ricco che si contrappone al precedente periodo di dieta quaresimale.\nInsieme alle brave docenti di Cuoche che Passione\, Antonella Comite e Paola Lanini\, reinventiamo un menu pasquale uscendo dagli stereotipi e realizzando nuove e interessantissime ricette. Con le due docenti realizzeremo infatti dei tortini di asparagi con una crema di parmigiano\, delle pastierine rustiche e delle polpettine di agnello profumate\, su pappa al pomodoro.
URL:https://mamamediterraneum.it/lezioni/menu-di-pasqua-reinventato/
LOCATION:MaMà Mediterraneum\, via di Priscilla 15-17\, Roma\, 00199\, Italia
CATEGORIES:Antipasti,Carne,menu,Per coppie,per esperti,Per principianti
ATTACH;FMTTYPE=image/jpeg:https://mamamediterraneum.it/wp-content/uploads/2019/03/pasqua.jpg
END:VEVENT
BEGIN:VEVENT
DTSTART;TZID=UTC:20181029T190000
DTEND;TZID=UTC:20181029T220000
DTSTAMP:20260425T145336
CREATED:20180826T145329Z
LAST-MODIFIED:20180826T145329Z
UID:10002154-1540839600-1540850400@mamamediterraneum.it
SUMMARY:Zucca mon amour
DESCRIPTION:La zucca è tra i prodotti di stagione più amati e versatili\, adatta a molteplici preparazioni davvero gustose\nSaranno le nostre docenti Antonella Comite e Paola Lanini ad avere il compito di farvene conoscere le varietà e di svelarvi ogni segreto per utilizzare al meglio questo ingrediente. Lo faranno rendendovi protagonisti nella preparazione di un risotto con stracotto di maiale e zucca\, di polpette di zucca filanti e di una crostata di zucca con prugne e noci
URL:https://mamamediterraneum.it/lezioni/zucca-mon-amour/
LOCATION:MaMà Mediterraneum\, via di Priscilla 15-17\, Roma\, 00199\, Italia
CATEGORIES:menu,Per coppie,per esperti,Per principianti,Risotti,verdure
ATTACH;FMTTYPE=image/jpeg:https://mamamediterraneum.it/wp-content/uploads/2018/08/zucca-mon-amour.jpg
END:VEVENT
BEGIN:VEVENT
DTSTART;TZID=UTC:20181015T190000
DTEND;TZID=UTC:20181015T220000
DTSTAMP:20260425T145336
CREATED:20180826T132302Z
LAST-MODIFIED:20180826T132302Z
UID:10002143-1539630000-1539640800@mamamediterraneum.it
SUMMARY:Colori e sapori di ottobre
DESCRIPTION:Ottobre è un mese magico per la cucina in quanto ritornano sui banchi del mercato ingredienti stagionali di rara bontà e soprattutto la voglia di cucinare e condividere\nLe due simpatiche e brave docenti\, Antonella Comite e Paola Lanini avranno il comando della cucina della nostra scuola per insegnarvi a preparare tre ricette che andranno ad rinnovare il vostro ricettario autunnale. Sarà un menu completo quello che guideranno a realizzare con dei conchiglioni ripieni di zucca in vellutata di funghi\, degli involtini di pollo con salsiccia\, porcini e nocciole e una crème caramel di cachi
URL:https://mamamediterraneum.it/lezioni/colori-e-sapori-di-ottobre/
LOCATION:MaMà Mediterraneum\, via di Priscilla 15-17\, Roma\, 00199\, Italia
CATEGORIES:Dolci al cucchiaio,menu,Pasta,Per coppie,per esperti,Per principianti,Primi,Secondi
ATTACH;FMTTYPE=image/jpeg:https://mamamediterraneum.it/wp-content/uploads/2018/07/ottobre-colori-e-sapori.jpg
END:VEVENT
BEGIN:VEVENT
DTSTART;TZID=UTC:20180920T190000
DTEND;TZID=UTC:20180920T190000
DTSTAMP:20260425T145336
CREATED:20180720T150415Z
LAST-MODIFIED:20180722T133406Z
UID:10002008-1537470000-1537470000@mamamediterraneum.it
SUMMARY:Stasera facciamo... i fichi
DESCRIPTION:I fichi\, tra i frutti estivi più apprezzati\, a settembre raggiungono il culmine della bontà\nIn cucina possono essere utilizzati per preparare interessantissime ricette proprio per il loro particolare sapore zuccherino che contrasta perfettamente con altri ingredienti particolarmente sapidi. Antonella e Paola di Cuoche che Passione hanno ideato per questa lezione tre ricette i cui nomi ne fanno già immaginare la bontà. La coppia di docenti vi guiderà nella realizzazione di caserecce con pesto di fichi e acciughe di Cetara\, delle polpettine di formaggio con confettura di fichi\, limone e zenzero (realizzata al momento) e una deliziosa mousse di fichi ubriachi.
URL:https://mamamediterraneum.it/lezioni/stasera-facciamo-i-fichi/
LOCATION:MaMà Mediterraneum\, via di Priscilla 15-17\, Roma\, 00199\, Italia
CATEGORIES:Per coppie,per esperti,Per principianti
ATTACH;FMTTYPE=image/jpeg:https://mamamediterraneum.it/wp-content/uploads/2018/07/fichi2.jpg
END:VEVENT
BEGIN:VEVENT
DTSTART;TZID=UTC:20180717T190000
DTEND;TZID=UTC:20180717T190000
DTSTAMP:20260425T145336
CREATED:20180615T144228Z
LAST-MODIFIED:20180615T144228Z
UID:10002109-1531854000-1531854000@mamamediterraneum.it
SUMMARY:cena di una sera di mezza estate
DESCRIPTION:Cosa c’è di più gradevole di invitare degli amici a cena e preparare loro dei piatti freschi e gustosi? La serata inizierà bene e metterà tutti di buon umore favorendo la convivialità e il piacere di ritrovarsi insieme.\nLe brave Antonella Comite e Paola Lanini\, alias Cuoche che Passione\, hanno studiato un menu perfetto per una cena tra amici. Le due docenti vi seguiranno passo passo nella preparazione di un finger food di crema fredda di melone con spiedini al prosciutto\, un anello di riso freddo con cozze e olive di Gaeta e un millefoglie di patate\, pomodori e gamberoni. \n 
URL:https://mamamediterraneum.it/lezioni/cena-di-una-sera-di-mezza-estate/
LOCATION:MaMà Mediterraneum\, via di Priscilla 15-17\, Roma\, 00199\, Italia
CATEGORIES:Antipasti,Per coppie,per esperti,Per principianti,Pesce,Primi,riso,Secondi
ATTACH;FMTTYPE=image/jpeg:https://mamamediterraneum.it/wp-content/uploads/2018/06/serata-estate.jpg
END:VEVENT
BEGIN:VEVENT
DTSTART;TZID=UTC:20180614T190000
DTEND;TZID=UTC:20180614T220000
DTSTAMP:20260425T145336
CREATED:20180503T103824Z
LAST-MODIFIED:20180504T064526Z
UID:10002082-1529002800-1529013600@mamamediterraneum.it
SUMMARY:Una serata in morbidezza: mousse salate e dolci
DESCRIPTION:Con il termine mousse\, mutuato come molti altri dal linguaggio della cucina francese\, si intendono quelle preparazioni che assumono una consistenza schiumosa grazie all’inglobamento nella massa di microscopiche bolle di aria.\nLe mousse\, per lo più dolci\, possono avere anche un carattere sapido e possono essere servite come gustosi antipasti. \nIn questa lezione Paola Lanini e Antonella Comite\, le titolari di Cuochechepassione\, insegneranno ad utilizzare tecniche di preparazione diverse per la preparazione delle diverse mousse\, come la meringa italiana e base semifreddo\, per un uso sicuro delle uova. Queste le ricette della serata: mousse di ricotta di bufala\, mousse al caffè e mousse di fragole. \n 
URL:https://mamamediterraneum.it/lezioni/serata-morbidezza-mousse-salate-dolci/
LOCATION:MaMà Mediterraneum\, via di Priscilla 15-17\, Roma\, 00199\, Italia
CATEGORIES:Antipasti,Dolci al cucchiaio
ATTACH;FMTTYPE=image/jpeg:https://mamamediterraneum.it/wp-content/uploads/2018/05/mousse-fragola.jpg
END:VEVENT
BEGIN:VEVENT
DTSTART;TZID=UTC:20180521T190000
DTEND;TZID=UTC:20180521T220000
DTSTAMP:20260425T145336
CREATED:20180417T140340Z
LAST-MODIFIED:20180420T124740Z
UID:10001993-1526929200-1526940000@mamamediterraneum.it
SUMMARY:Si fa presto a dire pesto
DESCRIPTION:L’estate è la stagione ideale per preparare gustosi pesti vegetali\nIl più noto è il pesto alla genovese ma in questa lezione sarà il grande escluso perché ci dedicheremo a pestare e frullare ingredienti diversi dal basilico e dalla frutta secca. Le due docenti della serata\, Paola Lanini e Antonella Comite\, vi guideranno nella realizzazione di tre fantastici e freschissimi condimenti con i quali prepareremo degli spaghetti al pesto di agrumi e mandorle con  mazzancolle\, dei paccheri con pesto di pistacchi\, bottarga e limone e un cous cous al pesto pantesco.
URL:https://mamamediterraneum.it/lezioni/si-presto-dire-pesto/
LOCATION:MaMà Mediterraneum\, via di Priscilla 15-17\, Roma\, 00199\, Italia
CATEGORIES:Pasta,Per coppie,per esperti,Per principianti
ATTACH;FMTTYPE=image/jpeg:https://mamamediterraneum.it/wp-content/uploads/2018/04/pesto.jpg
END:VEVENT
BEGIN:VEVENT
DTSTART;TZID=UTC:20180409T190000
DTEND;TZID=UTC:20180409T220000
DTSTAMP:20260425T145336
CREATED:20180211T150102Z
LAST-MODIFIED:20180212T142557Z
UID:10001959-1523300400-1523311200@mamamediterraneum.it
SUMMARY:La cucina dei Monsù
DESCRIPTION:I Monsù erano\, nel Regno delle Due Sicilie\, i cuochi delle famiglie nobiliari inviati i Francia ad apprendere la raffinata arte culinaria d’Oltralpe\nTornavano dopo aver imparato le tecniche dell’alta cucina che applicavano alle ricette tradizionali della propria terra creando dei capolavori gastronomici. \nLe due titolari di Cuoche che Passione\, partenopee DOC\, ci guideranno attentamente durante la preparazione dei maccheroni alla Monteroduni\, del timballo di maccheroni e dei maccheroni alla Principe di Napoli.
URL:https://mamamediterraneum.it/lezioni/la-cucina-dei-monsu/
LOCATION:MaMà Mediterraneum\, via di Priscilla 15-17\, Roma\, 00199\, Italia
CATEGORIES:Pasta,Per coppie,per esperti,Per principianti
ATTACH;FMTTYPE=image/jpeg:https://mamamediterraneum.it/wp-content/uploads/2018/02/monsu.jpg
END:VEVENT
BEGIN:VEVENT
DTSTART;TZID=UTC:20180308T190000
DTEND;TZID=UTC:20180308T220000
DTSTAMP:20260425T145336
CREATED:20180212T121445Z
LAST-MODIFIED:20180222T163258Z
UID:10002033-1520535600-1520546400@mamamediterraneum.it
SUMMARY:1\,2\,3... frolla!!
DESCRIPTION:Saranno le due vulcaniche docenti di “Cuoche che passione” a introdurvi nel dolce mondo della… pasta frolla.\nPartendo dalla ricetta di base con la quale realizzare biscotti\, “occhi di bue”\, passando alla frolla montata perfetta per realizzare crostate o biscottini da tè intinti nel cioccolato. \nAntonella e Paola vi insegneranno anche che esiste anche la frolla salata\, con la quale preparerete delle deliziose e fragranti crostatine con ripieno di patate\, salsicce e funghi!
URL:https://mamamediterraneum.it/lezioni/123-frolla/
LOCATION:MaMà Mediterraneum\, via di Priscilla 15-17\, Roma\, 00199\, Italia
ATTACH;FMTTYPE=image/jpeg:https://mamamediterraneum.it/wp-content/uploads/2018/02/frolla.jpg
END:VEVENT
BEGIN:VEVENT
DTSTART;TZID=UTC:20180117T190000
DTEND;TZID=UTC:20180117T220000
DTSTAMP:20260425T145336
CREATED:20171214T103934Z
LAST-MODIFIED:20171220T150308Z
UID:10001994-1516215600-1516226400@mamamediterraneum.it
SUMMARY:Frijenno e magnanno...
DESCRIPTION:Le nostre vulcaniche docenti di Cuoche che Passione vi insegneranno le ricette e i segreti del vero fritto napoletano.\nLe ricette che preparerete saranno molte e verranno tutte gustate appena fritte: le “Pizzelle” fritte con pomodori e basilico\,  i calzoncini imbottiti con ricotta di bufala campana e  salame felino\, delle piccole mozzarelle in carrozza con mozzarella di bufala campana\, il “panzarotto” imbottito non lievitato. \n 
URL:https://mamamediterraneum.it/lezioni/frijenno-e-magnanno/
LOCATION:MaMà Mediterraneum\, via di Priscilla 15-17\, Roma\, 00199\, Italia
CATEGORIES:Antipasti,Cucina generale,Fritti,Menù,Per coppie,per esperti,Per principianti,Spuntini
ATTACH;FMTTYPE=image/jpeg:https://mamamediterraneum.it/wp-content/uploads/2017/12/pizzella.jpg
END:VEVENT
END:VCALENDAR